BEGIN:VCALENDAR
VERSION:2.0
PRODID:-//My Community Diary//iCal Event//EN
CALSCALE:GREGORIAN
METHOD:PUBLISH
BEGIN:VEVENT
UID:c7757406-0d20-454a-88c9-4b86d6c82330
DTSTAMP:20260422T015822Z
DTSTART;VALUE=DATE:20261115
DTEND;VALUE=DATE:20261116
SUMMARY:Balcony Sessions
DESCRIPTION:The Civic Theatre balcony is the perfect place to enjoy a world class view\, a tasty cheese platter and the chilled vibes of some seriously skilled musicians.  Dale Allison and Geoff Simpson from well-known local band the Groove Factorie will be performing with various emerging artists.\n\nEntry Cost\nAll tickets $35  - Ticket $35.00\nTicket + cheese platter $60.00
LOCATION:\, Burns Way\, Wagga Wagga\, NSW 2650\, NSW\, 2650
RRULE:FREQ=DAILY;INTERVAL=1;UNTIL=20261117T000000Z
END:VEVENT
END:VCALENDAR
