BEGIN:VCALENDAR
VERSION:2.0
PRODID:-//My Community Diary//iCal Event//EN
CALSCALE:GREGORIAN
METHOD:PUBLISH
BEGIN:VEVENT
UID:d50a6e3a-47a9-4f9d-ae13-f75ca004e122
DTSTAMP:20260422T015811Z
DTSTART;VALUE=DATE:20260809
DTEND;VALUE=DATE:20260810
SUMMARY:Balcony Sessions
DESCRIPTION:The Civic Theatre balcony is the perfect place to enjoy a world class view\, a tasty cheese platter and the chilled vibes of some seriously skilled musicians.  Dale Allison and Geoff Simpson from well-known local band the Groove Factorie will be performing with various emerging artists.\n\nEntry Cost\nAll tickets $35  - Ticket $35.00\nTicket + cheese platter $60.00
LOCATION:\, Burns Way\, Wagga Wagga\, NSW 2650\, NSW\, 2650
RRULE:FREQ=DAILY;INTERVAL=1;UNTIL=20260811T000000Z
END:VEVENT
END:VCALENDAR
