BEGIN:VCALENDAR
VERSION:2.0
PRODID:-//My Community Diary//iCal Event//EN
CALSCALE:GREGORIAN
METHOD:PUBLISH
BEGIN:VEVENT
UID:6aebeb31-dcea-42cb-9f05-94f9b7ce0121
DTSTAMP:20260422T015826Z
DTSTART;VALUE=DATE:20260829
DTEND;VALUE=DATE:20260830
SUMMARY:Badu Gili: Story Keepers
DESCRIPTION:Badu Gili - meaning 'water light' in the language of the traditional owners of Bennelong Point\, the Gadigal - is a free nightly experience that explores First Nations stories in a spectacular six-minute projection on the Opera House's eastern Bennelong sails.\n\nWatch the sails illuminate nightly from sunset with Badu Gili: Story Keepers\, a new animation celebrating the work and stories of local and international First Nations artists - Mervyn Street\, a proud Gooniyandi man\, and Kinngaimmiut Inuk storyteller Ningiukulu Teevee. \n\nBadu Gili is presented in collaboration with the Biennale of Sydney and the Fondation Cartier pour l'art contemporain.\n\nThe lighting of the sails takes place each night at the top of the Monumental Steps from sunset*. \n\n*Times are subject to change with the seasons and Forecourt events. Check the website for screening times. Aboriginal and Torres Strait Islander viewers are warned the content may contain images of deceased persons.
LOCATION:\, Bennelong Point\, Sydney\, NSW 2000\, NSW\, 2000
RRULE:FREQ=DAILY;INTERVAL=1;UNTIL=20260831T000000Z
END:VEVENT
END:VCALENDAR
