BEGIN:VCALENDAR
VERSION:2.0
PRODID:-//My Community Diary//iCal Event//EN
CALSCALE:GREGORIAN
METHOD:PUBLISH
BEGIN:VEVENT
UID:03ddf4f8-e375-486e-bda9-93a29fc5afa3
DTSTAMP:20260422T022005Z
DTSTART;VALUE=DATE:20260502
DTEND;VALUE=DATE:20260503
SUMMARY:Badlands Vinyl Paint and Sip
DESCRIPTION:Badlands Vinyl Paint & Sip in the Tweed Heads Bay St precinct\, adjacent to the Twin Towns Conference & Function Centre\, offers a standout creative activity ideal for business events\, corporate groups and team-building experiences. Set inside a record store\, Badlands Vinyl specialises in interactive paint-and-sip sessions that blend art and music with professional guidance - perfect for corporate celebrations and team building. Participants enjoy all art materials\, step-by-step instruction from experienced local artists\, including wine and light snacks in a relaxed\, inclusive atmosphere that encourages connection and creativity.\n\nGroup bookings are tailor-made for private events for 8+ guests\, allowing groups to take over the space for exclusive paint-and-sip workshops with music and a fun\, informal vibe that's ideal for team bonding. Whether crafting portraits on canvas or themed pieces\, teams leave with a unique piece of art and a memorable shared experience. Located steps from major conference facilities\, these sessions are an engaging complement to corporate programs - bringing people together through creativity\, conversation and fun.
LOCATION:\, 25 Stuart St\, Tweed Heads\, NSW 2485\, NSW\, 2485
RRULE:FREQ=DAILY;INTERVAL=1;UNTIL=20260504T000000Z
END:VEVENT
END:VCALENDAR
