BEGIN:VCALENDAR
VERSION:2.0
PRODID:-//My Community Diary//iCal Event//EN
CALSCALE:GREGORIAN
METHOD:PUBLISH
BEGIN:VEVENT
UID:11029a41-8f46-46c3-a082-8da2fb482e03
DTSTAMP:20260422T032924Z
DTSTART;VALUE=DATE:20260509
DTEND;VALUE=DATE:20260510
SUMMARY:BACCI Art and Craft Show - May Show
DESCRIPTION:Ballina Art and Craft Centre Inc (BACCI) are putting on their biannual show where members will show their new work. This show\, BACCI is raising money through donations and a raffle for Dementia Inclusive Ballina.\n\nFirst prize is a beautiful wooden box hand-crafted by Barry Magnay second prize an intarcia woodwork piece by Eddie Richards.\n\nThere will be paintings\, prints\, photography\, books\, woven art\, woodwork\, sculpture\, ceramics\, jewellery\, resin art\, beautiful cards and other unique craft items. Plus a fabulous pop-up cafe with fresh and homemade treats as well as tea and coffee.
LOCATION:\, 56 Cherry Street\, Ballina\, NSW 2478\, NSW\, 2478
RRULE:FREQ=DAILY;INTERVAL=1;UNTIL=20260511T000000Z
END:VEVENT
END:VCALENDAR
