BEGIN:VCALENDAR
VERSION:2.0
PRODID:-//My Community Diary//iCal Event//EN
CALSCALE:GREGORIAN
METHOD:PUBLISH
BEGIN:VEVENT
UID:0fdb7154-d9ff-4cf3-bc27-527921c152a8
DTSTAMP:20260422T035548Z
DTSTART;VALUE=DATE:20261121
DTEND;VALUE=DATE:20261122
SUMMARY:BACCI Art & Craft Show - November Show
DESCRIPTION:Ballina Art & Craft Centre Inc (BACCI) are putting on their biannual show where members will show their new work. This show BACCI is raising money for The Ballina sleep bus service.\n\nThey are raffling a beautiful wooden box hand crafted by the late Kenneth Nunn.\n\nThere will be paintings\, prints\, photography\, books\, woven art\, woodwork\, sculpture\, ceramics\, jewellery\, resin art\, beautiful cards and other unique craft items. Plus they have a Pop-Up Cafe with fresh and home made treats as well as tea & coffee.
LOCATION:\, 56 Cherry Street\, Ballina\, NSW 2478\, NSW\, 2478
RRULE:FREQ=DAILY;INTERVAL=1;UNTIL=20261123T000000Z
END:VEVENT
END:VCALENDAR
