BEGIN:VCALENDAR
VERSION:2.0
PRODID:-//My Community Diary//iCal Event//EN
CALSCALE:GREGORIAN
METHOD:PUBLISH
BEGIN:VEVENT
UID:6ea04c73-42f5-4601-9ae8-04d20cd42669
DTSTAMP:20260422T033856Z
DTSTART;VALUE=DATE:20260607
DTEND;VALUE=DATE:20260608
SUMMARY:Autumn High Tea
DESCRIPTION:Farmgate restaurant presents  their fourth high tea event.\n\nHigh tea is a 2-hour sitting of delicacies served on vintage crockery served with your choice of tea from Tea Journeys Nowra or coffee from Rush Coffee Bowral. \n\nOption for free-flow Australian sparkling wine.\n\nProudly supported by Shoalhaven Food Network as part of the Autumn Celebration of Food.
LOCATION:\, 53 Graham Street\, Nowra\, NSW 2541\, NSW\, 2541
END:VEVENT
END:VCALENDAR
