BEGIN:VCALENDAR
VERSION:2.0
PRODID:-//My Community Diary//iCal Event//EN
CALSCALE:GREGORIAN
METHOD:PUBLISH
BEGIN:VEVENT
UID:b87d0ba3-1838-4b0f-894b-338ce404bea3
DTSTAMP:20260422T021158Z
DTSTART;VALUE=DATE:20260613
DTEND;VALUE=DATE:20260614
SUMMARY:Australian Swimming Trials
DESCRIPTION:The Australian Swimming Trials are the pinnacle of the Australian domestic swimming calendar and will see the biggest names in Australian swimming go head-to-head for the title of National Champion. This event will also decide which athletes qualify for the Australian Dolphins Swim Team to represent the green and gold at the 2026 Commonwealth Games in Glasgow\, Scotland.\n\nFor the first time since 2015\, an Australian long-course Championship returns to the Sydney Olympic Park Aquatic Centre\, giving fans a rare opportunity to watch world-class swimming at the home of the 2000 Olympic games.\n\nWith plenty of fan activities\, as well as competitive sport\, the 2026 Australian Swimming Trials caters to fans of all ages.
LOCATION:\, 9 Olympic Boulevard\, Sydney Olympic Park\, NSW 2127\, NSW\, 2127
RRULE:FREQ=DAILY;INTERVAL=1;UNTIL=20260615T000000Z
END:VEVENT
END:VCALENDAR
