BEGIN:VCALENDAR
VERSION:2.0
PRODID:-//My Community Diary//iCal Event//EN
CALSCALE:GREGORIAN
METHOD:PUBLISH
BEGIN:VEVENT
UID:f8e10ec2-ab8e-45ed-9fd4-b0dd436421a5
DTSTAMP:20260422T054514Z
DTSTART;VALUE=DATE:20261107
DTEND;VALUE=DATE:20261108
SUMMARY:Australian Haydn Ensemble - Haydn’s Oxford
DESCRIPTION:Haydn's London Symphonies reimagined: intimate\, vibrant\, and full of surprises.\n\nHaydn's London Symphonies: Part 1\n\nPart 1! How enticing. If a CD revival eventually eclipses the current vinyl vogue\, can everyone look forward to a 300th birthday /Brisbane Olympics "boxed set" of all 12 by 2032?\n\nViolinist and impresario Peter Salomon was the guardian angel (slash shrewd businessman) who put Haydn on a boat to London after a younger "less enlightened" (ok\, philistine) Esterházy sacked all his musicians and kept the composer on for domestic duties. English audiences went wild\, symphonies poured out and sterling poured in but these "tours" represented a genuine sea-change in music history: the fans were middle to upper-middle class music lovers\, not diversion-seeking aristocrats. And in the absence of a foyer CD (let alone vinyl) stall\, they were all ravenous to listen again at home. So… you guessed it\, Salomon added a lucrative by-line in downsized arrangements for amateur parlour use.\n\nAs AHE listeners will know\, these versions\, often for string sextet and flute\, are a long way from pale imitations: newly imagined for the medium\, they are actually a refreshing listen when compared to the brass and drum heavy "warhorse" school of orchestral playing.\n\nAn exciting\, dramatic and thoroughly satisfying season's end.
LOCATION:\, 25 Stilling Street\, Rathmines\, NSW 2283\, NSW\, 2283
END:VEVENT
END:VCALENDAR
