BEGIN:VCALENDAR
VERSION:2.0
PRODID:-//My Community Diary//iCal Event//EN
CALSCALE:GREGORIAN
METHOD:PUBLISH
BEGIN:VEVENT
UID:d81918b9-ca6f-4a9b-97d7-0baca085d52d
DTSTAMP:20260422T035719Z
DTSTART;VALUE=DATE:20260423
DTEND;VALUE=DATE:20260424
SUMMARY:Australian Bee Gees Show
DESCRIPTION:Fresh from celebrating 15 years and over 4500 shows headlining on the Las Vegas strip\, the Australian Bee Gees Show will be heading Down Under for the Australian leg of their 30th anniversary tour!\n\nThis new show will be presented in two parts and feature all of the hits in a nostalgic trip down memory lane in a multimedia concert event.\n\nThe Australian Bee Gees Show is currently performing at The Excalibur Hotel and Casino and has been in residence for the past 15 years and have just signed a new 5-year contract that will keep the ABG Show headlining in Las Vegas until 2030. The group has racked up over 4500 performances on the Las Vegas Strip and was recently voted Best Tribute Show in Las Vegas by the prestigious Las Vegas Review Journal and has made the top 10 in the 'Overall Best Show' category\, an amazing achievement in Las Vegas.\n\nFrom their first shows in 1996\, The Australian Bee Gees Show has conquered Las Vegas and has played to capacity houses around the world\, cementing their reputation as an exceptional live concert act and the world's leading Bee Gees Show.\n\nFor one night only be a part of the magic that is\, The Australian Bee Gees Show.\n\nEntry Cost\nAll tickets $60  - Adults $65.00\nConcession $60.00
LOCATION:\, Burns Way\, Wagga Wagga\, NSW 2650\, NSW\, 2650
END:VEVENT
END:VCALENDAR
