BEGIN:VCALENDAR
VERSION:2.0
PRODID:-//My Community Diary//iCal Event//EN
CALSCALE:GREGORIAN
METHOD:PUBLISH
BEGIN:VEVENT
UID:8aa8ae5a-0c5f-407c-a7a0-f8c684277ccd
DTSTAMP:20260421T224423Z
DTSTART;VALUE=DATE:20270126
DTEND;VALUE=DATE:20270127
SUMMARY:Australia Day Celebrations Gunnedah
DESCRIPTION:Celebrate Australia Day the Gunnedah Way!\n\nGet ready to embrace the Aussie spirit at Gunnedah Shire's Australia Day celebrations—where mateship\, community pride and good times come together in true-blue style!\n\nIn the lead-up\, join the fun at the Australia Day Trivia Quiz at the Golf Club\, and he Australia Day eve Cocktail Party & DJ at the Courthouse Hotel.\n\nAustralia Day kicks off with the Triathlon\, Rotary BBQ brunch\, alongside athletic events\, a lively Touch Footy Match and the fast-paced Dash for Cash.\n\nThe official Australia Day Ceremony starts with the Citizenship Ceremony under the Gums and continues with the Australia Day Awards ceremony.\n\nMake a splash with free entry to the Gunnedah Pool\, or enjoy Aussie breakfasts in Shire villages and the fishing competition in Carrol. All the local Pubs put on entertainment and Australia Day activities for the whole family\, the Mackellar Centre and the Rural Museum open their doors.\n\nThere's something for all ages across Gunnedah and its villages.\n\nFor the full program and updates\, visit the Gunnedah Shire Council website or follow them on Facebook.\n\nCelebrate local. Celebrate Australia. Celebrate Gunnedah!
LOCATION:\, Donnelly Fields  Maitland Street\, Gunnedah\, NSW 2380\, NSW\, 2380
END:VEVENT
END:VCALENDAR
