BEGIN:VCALENDAR
VERSION:2.0
PRODID:-//My Community Diary//iCal Event//EN
CALSCALE:GREGORIAN
METHOD:PUBLISH
BEGIN:VEVENT
UID:621cd9a6-23db-449c-926c-af082b9b8617
DTSTAMP:20260422T022839Z
DTSTART;VALUE=DATE:20270126
DTEND;VALUE=DATE:20270127
SUMMARY:Australia Day Celebration in Balranald
DESCRIPTION:Balranald Shire will celebrate Australia day in Balranald Township commencing with breakfast or lunch  followed by an address from the Australia Day Ambassador and Awards Ceremony.\n\nFollowing or preceding  the Balranald ceremony\, an Australia Day barbecue lunch or a breakfast  followed by an address from the Australia Day Ambassador\, Citizenships and Awards Ceremony will commence in Euston Township at the Euston recreation Reserve.\n\nThis celebration is to be an alcohol free event.
LOCATION:\, Church Street\, Balranald\, NSW 2715\, NSW\, 2715
END:VEVENT
END:VCALENDAR
