BEGIN:VCALENDAR
VERSION:2.0
PRODID:-//My Community Diary//iCal Event//EN
CALSCALE:GREGORIAN
METHOD:PUBLISH
BEGIN:VEVENT
UID:4f8d16e4-2f2a-48ea-bebf-bbffcf884a49
DTSTAMP:20260422T023910Z
DTSTART;VALUE=DATE:20270126
DTEND;VALUE=DATE:20270127
SUMMARY:Australia  Day Celebrations - Cootamundra
DESCRIPTION:Australia Day in Cootamundra is a vibrant morning of community pride\, live music\, and country hospitality. \n\nCelebrate at Albert Park with a  breakfast\, local entertainment\, and the presentation of our Australia Day Awards honouring outstanding locals.\n\n It is a joyful\, feel-good event that brings everyone together to reflect\, respect\, and celebrate what makes Cootamundra such a special place to call home.
LOCATION:\, Bourke Street\, Cootamundra\, NSW 2590\, NSW\, 2590
END:VEVENT
END:VCALENDAR
