BEGIN:VCALENDAR
VERSION:2.0
PRODID:-//My Community Diary//iCal Event//EN
CALSCALE:GREGORIAN
METHOD:PUBLISH
BEGIN:VEVENT
UID:2c976298-fb11-4534-9fb0-8328134ca307
DTSTAMP:20260422T023916Z
DTSTART;VALUE=DATE:20260530
DTEND;VALUE=DATE:20260531
SUMMARY:Aurum Winery Tastings and Canape Pop-Up Experience
DESCRIPTION:Discover Aurum\, Australia's award-winning modern honey wine\, at an exclusive pop-up cellar door every Saturday in the historic Newrybar Hall. Set in the heart of the Byron hinterland\, this unique experience invites visitors to explore a new style of wine that is redefining tradition.\n\nHandcrafted in small batches using rare honeys from the Northern Rivers\, Aurum's wines are elegant\, dry and refreshingly distinctive – worlds apart from conventional mead. From sparkling champagne-style bubbles to crisp whites\, vibrant rosés\, smooth reds and indulgent dessert wines\, each tasting reveals floral\, mineral and clean flavour profiles that have impressed even top sommeliers in blind tastings.\n\nGuests can enjoy a guided tasting flight of six wines\, perfectly matched with curated canapés designed by Michelin-starred chef Anthony Hamon. Alongside the wine experience\, visitors have the opportunity to purchase Aurum's bottles at special cellar door prices\, as well as medicinal-grade Manuka honeys.\n\nWhether stopping by for a quick tasting or booking a group table for a leisurely afternoon\, Aurum's pop-up cellar door offers an unforgettable outing in the charming village of Newrybar – the perfect weekend escape in the Byron hinterland.\n\nEntry Cost\nAdult $0  - Wine tastings from $5 or FREE with any purchase.\n\nFull sit-down wine and canape experience (6 wines\, 6 canapes) for $35\, with $10 voucher towards any purchase\, plus access to our exclusive local wine club and 50% off our range of wines.
LOCATION:\, 13-15 Old Pacific Highway\, Newrybar\, NSW 2479\, NSW\, 2479
RRULE:FREQ=DAILY;INTERVAL=1;UNTIL=20260601T000000Z
END:VEVENT
END:VCALENDAR
