BEGIN:VCALENDAR
VERSION:2.0
PRODID:-//My Community Diary//iCal Event//EN
CALSCALE:GREGORIAN
METHOD:PUBLISH
BEGIN:VEVENT
UID:f0fc4261-a4c7-445f-9905-767152c8460f
DTSTAMP:20260421T210318Z
DTSTART;VALUE=DATE:20261105
DTEND;VALUE=DATE:20261106
SUMMARY:Artflow Sessions
DESCRIPTION:Where creativity flows\, confidence grows\, and every week brings something new.\n\nLooking for a place to create\, unwind\, explore new techniques\, and connect with other like-minded creatives? \n\nWelcome to Artflow — a weekly oasis of colour\, curiosity\, and calm.\n\nThese sessions aren't about perfection… they're about possibility. Every week is a fresh creative adventure\, a new technique\, a different style\, or a fun surprise designed to inspire participants. No two sessions are ever the same.\n\nWhether picking up a paintbrush for the first time or creating for years\, Artflow is the perfect place to sharpen skills\, relax\, and rediscover the joy of art.\n\nEntry Cost\nAll tickets $450  - This price entitles you to 10 classes of your choice\nAttendance does not need to be consecutive weeks\nRead full details on the website
LOCATION:\, 2 Mitchell Road 23\, Cardiff\, NSW 2285\, NSW\, 2285
RRULE:FREQ=DAILY;INTERVAL=1;UNTIL=20261107T000000Z
END:VEVENT
END:VCALENDAR
