BEGIN:VCALENDAR
VERSION:2.0
PRODID:-//My Community Diary//iCal Event//EN
CALSCALE:GREGORIAN
METHOD:PUBLISH
BEGIN:VEVENT
UID:a8b8e7a2-8fa0-4541-9dba-3a0bcf417c97
DTSTAMP:20260422T015740Z
DTSTART;VALUE=DATE:20260711
DTEND;VALUE=DATE:20260712
SUMMARY:ARTEXPRESS - Wagga Wagga
DESCRIPTION:ARTEXPRESS highlights bold ideas\, artistic talent\, and important issues for young people today. This annual exhibition features outstanding works created for the art-making component of the 2025 HSC Visual Arts exam.\n\nStudents experimented with various expressive forms including ceramics\, collections of works\, designed objects\, documented forms\, drawing\, graphic design\, painting\, photomedia\, printmaking\, sculpture\, textiles and fibre\, and time-based forms. This resulted in a visual outcome that is a vibrant mix of styles and perspectives reflecting contemporary art practice and this generation's diversity.\n\nARTEXPRESS is a joint partnership between the New South Wales Department of Education and the New South Wales Education Standards Authority.
LOCATION:\, Morrow Street\, Wagga Wagga\, NSW 2650\, NSW\, 2650
RRULE:FREQ=DAILY;INTERVAL=1;UNTIL=20260713T000000Z
END:VEVENT
END:VCALENDAR
