BEGIN:VCALENDAR
VERSION:2.0
PRODID:-//My Community Diary//iCal Event//EN
CALSCALE:GREGORIAN
METHOD:PUBLISH
BEGIN:VEVENT
UID:d22cfe2d-5c93-4ba5-98e0-dca87f5998a3
DTSTAMP:20260422T002950Z
DTSTART;VALUE=DATE:20260603
DTEND;VALUE=DATE:20260604
SUMMARY:ARTEXPRESS - Port Macquarie
DESCRIPTION:ARTEXPRESS is a HSC Showcase that celebrates the creativity and achievement of HSC Visual Arts students\, featuring the high standard and diversity of works by students across New South Wales.\n\nThe Visual Arts Stage 6 Syllabus supports students to create bodies of work that represent their intention as artists and reflects or references a critical understanding of the art world. The selection of works on display showcases a range of approaches in different expressive forms.\n\nARTEXPRESS is a joint initiative of the NSW Department of Education and the NSW Education Standards Authority.
LOCATION:\, Corner of Clarence and Hay Streets\, Port Macquarie\, NSW 2444\, NSW\, 2444
RRULE:FREQ=DAILY;INTERVAL=1;UNTIL=20260605T000000Z
END:VEVENT
END:VCALENDAR
