BEGIN:VCALENDAR
VERSION:2.0
PRODID:-//My Community Diary//iCal Event//EN
CALSCALE:GREGORIAN
METHOD:PUBLISH
BEGIN:VEVENT
UID:c485698f-5250-4bf8-8dfc-25c499a9c8b4
DTSTAMP:20260421T224307Z
DTSTART;VALUE=DATE:20260531
DTEND;VALUE=DATE:20260601
SUMMARY:Armidale Sunday Markets in the Mall
DESCRIPTION:Armidale Markets in the Mall are held on the last Sunday of each month with more than 50 different stalls making a regular appearance and live music.\n\nA variety of stalls offering a huge range of quality handmade and handcrafted items\, cupcakes\, candles\, bath and body products\, skincare and makeup\, handmade clothing\, bags\, shoes\, linen\, pottery\, woodwork\, plants\, art\, homewares\, toys\, puppets\, stamping and scrap booking plus so much more.\n\nThe markets are held in Beardy Street\, Armidale and are run by the Armidale PCYC.
LOCATION:\, Beardy Street Mall Beardy Street\, Armidale\, NSW 2350\, NSW\, 2350
RRULE:FREQ=DAILY;INTERVAL=1;UNTIL=20260602T000000Z
END:VEVENT
END:VCALENDAR
