BEGIN:VCALENDAR
VERSION:2.0
PRODID:-//My Community Diary//iCal Event//EN
CALSCALE:GREGORIAN
METHOD:PUBLISH
BEGIN:VEVENT
UID:1fd1e3f4-c18d-45f7-beb9-74bebd2e1550
DTSTAMP:20260422T054502Z
DTSTART;VALUE=DATE:20260426
DTEND;VALUE=DATE:20260427
SUMMARY:Armidale Sunday Markets in the Mall
DESCRIPTION:Armidale Markets in the Mall are held on the last Sunday of each month with more than 50 different stalls making a regular appearance and live music.\n\nA variety of stalls offering a huge range of quality handmade and handcrafted items\, cupcakes\, candles\, bath and body products\, skincare and makeup\, handmade clothing\, bags\, shoes\, linen\, pottery\, woodwork\, plants\, art\, homewares\, toys\, puppets\, stamping and scrap booking plus so much more.\n\nThe markets are held in Beardy Street\, Armidale and are run by the Armidale PCYC.
LOCATION:\, Beardy Street Mall Beardy Street\, Armidale\, NSW 2350\, NSW\, 2350
RRULE:FREQ=DAILY;INTERVAL=1;UNTIL=20260428T000000Z
END:VEVENT
END:VCALENDAR
