BEGIN:VCALENDAR
VERSION:2.0
PRODID:-//My Community Diary//iCal Event//EN
CALSCALE:GREGORIAN
METHOD:PUBLISH
BEGIN:VEVENT
UID:e3f4f155-79c9-4089-8c0d-5253609dc741
DTSTAMP:20260422T022004Z
DTSTART;VALUE=DATE:20270110
DTEND;VALUE=DATE:20270111
SUMMARY:Armidale Farmers' Market
DESCRIPTION:The Armidale Farmers' Market occurs on the second Sunday of the month in Curtis Park. Head along to buy fresh\, local\, seasonal produce\, homemade gourmet food\, wine and plants. Get a hot cup of organic fair-trade gourmet coffee and catch up with friends\, or relax under a shady tree in the park. Find a real bargain and help reduce landfill by buying second-hand treasures at the car boot sale.\n\nThe Armidale Farmers' Market is a great outing on a Sunday morning. Come on down and have some fun shopping for seasonal produce or that special bargain.
LOCATION:\, Dumaresq Street\, Armidale\, NSW 2350\, NSW\, 2350
RRULE:FREQ=DAILY;INTERVAL=1;UNTIL=20270112T000000Z
END:VEVENT
END:VCALENDAR
