BEGIN:VCALENDAR
VERSION:2.0
PRODID:-//My Community Diary//iCal Event//EN
CALSCALE:GREGORIAN
METHOD:PUBLISH
BEGIN:VEVENT
UID:fc9ff3c2-d8a5-42a6-acd2-2f214cc184e2
DTSTAMP:20260422T033759Z
DTSTART;VALUE=DATE:20261108
DTEND;VALUE=DATE:20261109
SUMMARY:Armidale Farmers' Market
DESCRIPTION:The Armidale Farmers' Market occurs on the second Sunday of the month in Curtis Park. Head along to buy fresh\, local\, seasonal produce\, homemade gourmet food\, wine and plants. Get a hot cup of organic fair-trade gourmet coffee and catch up with friends\, or relax under a shady tree in the park. Find a real bargain and help reduce landfill by buying second-hand treasures at the car boot sale.\n\nThe Armidale Farmers' Market is a great outing on a Sunday morning. Come on down and have some fun shopping for seasonal produce or that special bargain.
LOCATION:\, Dumaresq Street\, Armidale\, NSW 2350\, NSW\, 2350
RRULE:FREQ=DAILY;INTERVAL=1;UNTIL=20261110T000000Z
END:VEVENT
END:VCALENDAR
