BEGIN:VCALENDAR
VERSION:2.0
PRODID:-//My Community Diary//iCal Event//EN
CALSCALE:GREGORIAN
METHOD:PUBLISH
BEGIN:VEVENT
UID:fd41dd20-7573-4771-9485-4a0c47a10294
DTSTAMP:20260422T003018Z
DTSTART;VALUE=DATE:20260704
DTEND;VALUE=DATE:20260705
SUMMARY:Aperitivo Italiano Happy Hour at Peter Eva Restaurant
DESCRIPTION:Step into the Italian way of life every Saturday at Peter Eva Restaurant with Apertitivo Italiano  – Happy Hour.\n\nIt's the perfect way to unwind\, catch up with friends\, and savour the flavours of Italy.\n\nEnjoy selected cocktails from a specially curated list\, crafted to delight. \n\nWant the full aperitivo experience? Choose the Aperitivo Tagliere and Cocktail – a delicious Italian-style grazing board paired with your favourite cocktail. \n\nWith a lively DJ set spinning feel-good tracks\, the atmosphere is effortlessly chic and relaxed – just like a night out in Italy.\n\n Bookings are recommended.
LOCATION:\, 52 Owen Street 2\, Huskisson\, NSW 2540\, NSW\, 2540
RRULE:FREQ=DAILY;INTERVAL=1;UNTIL=20260706T000000Z
END:VEVENT
END:VCALENDAR
