BEGIN:VCALENDAR
VERSION:2.0
PRODID:-//My Community Diary//iCal Event//EN
CALSCALE:GREGORIAN
METHOD:PUBLISH
BEGIN:VEVENT
UID:daeb4ef9-62e3-4bf0-bc80-43f4f91b5495
DTSTAMP:20260421T211606Z
DTSTART;VALUE=DATE:20260523
DTEND;VALUE=DATE:20260524
SUMMARY:Aperitivo Italiano Happy Hour at Peter Eva Restaurant
DESCRIPTION:Step into the Italian way of life every Saturday at Peter Eva Restaurant with Apertitivo Italiano  – Happy Hour.\n\nIt's the perfect way to unwind\, catch up with friends\, and savour the flavours of Italy.\n\nEnjoy selected cocktails from a specially curated list\, crafted to delight. \n\nWant the full aperitivo experience? Choose the Aperitivo Tagliere and Cocktail – a delicious Italian-style grazing board paired with your favourite cocktail. \n\nWith a lively DJ set spinning feel-good tracks\, the atmosphere is effortlessly chic and relaxed – just like a night out in Italy.\n\n Bookings are recommended.
LOCATION:\, 52 Owen Street 2\, Huskisson\, NSW 2540\, NSW\, 2540
RRULE:FREQ=DAILY;INTERVAL=1;UNTIL=20260525T000000Z
END:VEVENT
END:VCALENDAR
