BEGIN:VCALENDAR
VERSION:2.0
PRODID:-//My Community Diary//iCal Event//EN
CALSCALE:GREGORIAN
METHOD:PUBLISH
BEGIN:VEVENT
UID:79a49db2-4dae-488a-987f-43466b996bca
DTSTAMP:20260422T052917Z
DTSTART;VALUE=DATE:20260425
DTEND;VALUE=DATE:20260426
SUMMARY:ANZAC Day Lismore
DESCRIPTION:Returned and Services League of Australia - City of Lismore sub-Branch ANZAC Day Committee wishes to invite the community to Lismore's ANZAC Day March and Services\, commemorating the fallen from Gallipoli and all other subsequent wars and deployments in which Australian Defence personnel have been involved.\n\nAt 5am the traditional Dawn Service will be held at the Lismore Cenotaph\, following the March from the "Old Post Office Corner" on the corner of Magellan and Molesworth Streets.\n\nThe main March will commence at 9am and will depart Browns Creek Carpark\, proceeding along Molesworth Street to the Lismore Memorial Baths. Followed by the ANZAC Day commemorative service at the Lismore Cenotaph.
LOCATION:\, 179 Molesworth Street\, Lismore\, NSW 2480\, NSW\, 2480
END:VEVENT
END:VCALENDAR
