BEGIN:VCALENDAR
VERSION:2.0
PRODID:-//My Community Diary//iCal Event//EN
CALSCALE:GREGORIAN
METHOD:PUBLISH
BEGIN:VEVENT
UID:4cc78d96-6af7-4a63-9250-52e85dc81420
DTSTAMP:20260421T222636Z
DTSTART;VALUE=DATE:20260425
DTEND;VALUE=DATE:20260426
SUMMARY:Anzac Day Breakfast Cruise
DESCRIPTION:This ANZAC Day\, begin your morning with reflection and connection on the water. After attending the Dawn Service at Nobbys Beach\, step aboard Nova Cruises for a peaceful Breakfast Cruise on Newcastle Harbour from 7am–9am. Enjoy a delicious breakfast selection including pastries\, fresh fruit\, muesli and yoghurt parfait\, ham and cheese croissants\, tea and coffee — all while taking in the beauty of the harbour at sunrise.\n\nYou'll return in time for the ANZAC march on Hunter Street\, making it a meaningful and memorable way to commemorate the day.\n\nEntry Cost\nAll tickets $59 
LOCATION:\, 5 Honeysuckle Drive\, Newcastle\, NSW 2300\, NSW\, 2300
END:VEVENT
END:VCALENDAR
