BEGIN:VCALENDAR
VERSION:2.0
PRODID:-//My Community Diary//iCal Event//EN
CALSCALE:GREGORIAN
METHOD:PUBLISH
BEGIN:VEVENT
UID:6f2cbf3c-292c-41d2-a3f2-159f605553f2
DTSTAMP:20260422T005207Z
DTSTART;VALUE=DATE:20260425
DTEND;VALUE=DATE:20260426
SUMMARY:ANZAC Day at the Blamey
DESCRIPTION:ANZAC Day at the Blamey Two-Up in the Marquee.\n\nJoin them this ANZAC Day as they honor the heroes with a day of mateship\, tradition\, and good times at the Blamey. \n\nTwo-Up under the marquee – the ANZAC Day classic! Ice-cold drinks and delicious food all day long. Live music
LOCATION:\, 55 Main St\, Lake Albert\, NSW 2650\, NSW\, 2650
END:VEVENT
END:VCALENDAR
