BEGIN:VCALENDAR
VERSION:2.0
PRODID:-//My Community Diary//iCal Event//EN
CALSCALE:GREGORIAN
METHOD:PUBLISH
BEGIN:VEVENT
UID:520f2a7c-c44c-4174-b647-ea4e33e4b886
DTSTAMP:20260422T005233Z
DTSTART;VALUE=DATE:20260425
DTEND;VALUE=DATE:20260426
SUMMARY:ANZAC Day at Farmers Home Hotel
DESCRIPTION:Join them at the Farmers for ANZAC Day Events as we pay our respects to the brave men and women who have served the Country. \n\nWith Traditional Two Up in the Marquee\, Live entertainment\, food and drink specials\, footy on the screens and more ANZAC Day at the Farmers is a great day out.
LOCATION:\, 2-6 Hammond Avenue\, East Wagga Wagga\, NSW 2650\, NSW\, 2650
END:VEVENT
END:VCALENDAR
