BEGIN:VCALENDAR
VERSION:2.0
PRODID:-//My Community Diary//iCal Event//EN
CALSCALE:GREGORIAN
METHOD:PUBLISH
BEGIN:VEVENT
UID:493a1c66-51a8-48a4-83b6-2c4ca96c87c1
DTSTAMP:20260421T225722Z
DTSTART;VALUE=DATE:20260425
DTEND;VALUE=DATE:20260426
SUMMARY:ANZAC Day at Club Jamberoo
DESCRIPTION:Join them at Club Jamberoo as they come together to honour and remember the brave men and women who have served the country. After paying your respects\, continue the tradition with an afternoon of camaraderie\, reflection\, and community spirit.\n\nANZAC Day is a time to reflect\, remember\, and show appreciation for those who have served.\n\nLest We Forget.\n\nThey look forward to seeing you there.
LOCATION:\, 11 Allowrie Street\, Jamberoo\, NSW 2533\, NSW\, 2533
END:VEVENT
END:VCALENDAR
