BEGIN:VCALENDAR
VERSION:2.0
PRODID:-//My Community Diary//iCal Event//EN
CALSCALE:GREGORIAN
METHOD:PUBLISH
BEGIN:VEVENT
UID:376151d1-c393-4d42-b63b-e81dd72ba97b
DTSTAMP:20260422T033750Z
DTSTART;VALUE=DATE:20260425
DTEND;VALUE=DATE:20260426
SUMMARY:Anzac Day - Temora
DESCRIPTION:Join them this ANZAC Day as they come together in remembrance and respect. The march will begin at the Police Station and make its way to Callaghan Park\, led by returned servicemen and women\, school children\, the community band\, and members of the public.\n\nAll are welcome to take part or line the streets in support. Let's walk together to honour the spirit of ANZAC and those who have served.
LOCATION:\, 128-130 Anzac St\, Temora\, NSW 2666\, NSW\, 2666
END:VEVENT
END:VCALENDAR
