BEGIN:VCALENDAR
VERSION:2.0
PRODID:-//My Community Diary//iCal Event//EN
CALSCALE:GREGORIAN
METHOD:PUBLISH
BEGIN:VEVENT
UID:17fda303-7e6b-4a60-af20-1f0574419a8e
DTSTAMP:20260421T211559Z
DTSTART;VALUE=DATE:20260430
DTEND;VALUE=DATE:20260501
SUMMARY:Anh Doh - The Happiest Refugee Live
DESCRIPTION:Anh Do's bestselling book "The Happiest Refugee" has made readers laugh and cry\, and was described by Russell Crowe as "The most surprising and inspiring read I have had in years". \n\nHis stage show takes it a step further\, combining stand-up comedy with real life stories\, photos and filmed pieces to retell his amazing story.
LOCATION:\, 1 Mackney Ln\, Lennox Head\, NSW 2478\, NSW\, 2478
END:VEVENT
END:VCALENDAR
