BEGIN:VCALENDAR
VERSION:2.0
PRODID:-//My Community Diary//iCal Event//EN
CALSCALE:GREGORIAN
METHOD:PUBLISH
BEGIN:VEVENT
UID:241af55b-1245-41c3-a6e3-07fe028b36c6
DTSTAMP:20260421T211611Z
DTSTART;VALUE=DATE:20260430
DTEND;VALUE=DATE:20260501
SUMMARY:Anh Do - The Happiest Refugee Live! Lennox Head
DESCRIPTION:Beloved comedian\, author and artist Anh Do brings his acclaimed live show The Happiest Refugee to Lennox Head\, based on his bestselling memoir that has touched hearts around the world. Praised by Russell Crowe as "the most surprising and inspiring read\," the story comes alive on stage in a powerful and deeply personal performance.\n\nBlending stand-up comedy with real-life stories\, photos and filmed moments\, Anh shares his remarkable journey — from escaping war-torn Vietnam as a refugee to becoming one of Australia's most loved entertainers. With warmth\, honesty and irresistible humour\, he explores life's joys and challenges in a way that is both hilarious and profoundly moving.\n\nThis is more than a comedy show — it's an uplifting theatre experience that leaves audiences laughing\, reflecting and walking away with a genuine sense of happiness.\n\nThe Happiest Refugee Live is an unforgettable night out that resonates long after the curtain falls.\n\nEntry Cost\nAll tickets $69.9 
LOCATION:\, 1 Mackney Ln\, Lennox Head\, NSW 2478\, NSW\, 2478
END:VEVENT
END:VCALENDAR
