BEGIN:VCALENDAR
VERSION:2.0
PRODID:-//My Community Diary//iCal Event//EN
CALSCALE:GREGORIAN
METHOD:PUBLISH
BEGIN:VEVENT
UID:8af69989-906c-4094-93c0-6de9bdb01b4a
DTSTAMP:20260422T052235Z
DTSTART;VALUE=DATE:20260512
DTEND;VALUE=DATE:20260513
SUMMARY:Anh Do - The Happiest Refugee - Muswellbrook
DESCRIPTION:Anh Do's bestselling book The Happiest Refugee has made readers laugh and cry\, and was described by Russell Crowe as the most surprising and inspiring read he had in years.\n\nAnh's stage show takes it a step further\, combining stand-up comedy with real-life stories\, photos and filmed pieces to retell his amazing story.\n\nWhen one of Australia's most talented comedians delves deep into his own life's joys and sorrows\, the result is an unforgettable night at the theatre that leaves an audience uplifted and quite simply experiencing… happiness.
LOCATION:\, King Street\, Muswellbrook\, NSW 2333\, NSW\, 2333
END:VEVENT
END:VCALENDAR
