BEGIN:VCALENDAR
VERSION:2.0
PRODID:-//My Community Diary//iCal Event//EN
CALSCALE:GREGORIAN
METHOD:PUBLISH
BEGIN:VEVENT
UID:3edc2ef8-abf4-4969-8176-b4470304f31f
DTSTAMP:20260422T003439Z
DTSTART;VALUE=DATE:20260505
DTEND;VALUE=DATE:20260506
SUMMARY:Anh Do - The Happiest Refugee - Goulburn
DESCRIPTION:Anh Do's bestselling book The Happiest Refugee has made readers laugh and cry\, and was described by Russell Crowe as the most surprising and inspiring read he had in years.\n\nAnh's stage show takes it a step further\, combining stand-up comedy with real-life stories\, photos and filmed pieces to retell his amazing story.\n\nWhen one of Australia's most talented comedians delves deep into his own life's joys and sorrows\, the result is an unforgettable night at the theatre that leaves an audience uplifted and quite simply experiencing… happiness.
LOCATION:\, 163 Auburn Street\, Goulburn\, NSW 2580\, NSW\, 2580
END:VEVENT
END:VCALENDAR
