BEGIN:VCALENDAR
VERSION:2.0
PRODID:-//My Community Diary//iCal Event//EN
CALSCALE:GREGORIAN
METHOD:PUBLISH
BEGIN:VEVENT
UID:254c2d7d-9f60-400f-b3bb-13442b85b417
DTSTAMP:20260421T222853Z
DTSTART;VALUE=DATE:20260514
DTEND;VALUE=DATE:20260515
SUMMARY:Anh Do - The Happiest Refugee - Forster
DESCRIPTION:Anh Do's bestselling book The Happiest Refugee has made readers laugh and cry\, and was described by Russell Crowe as the most surprising and inspiring read he had in years.\n\nAnh's stage show takes it a step further\, combining stand-up comedy with real-life stories\, photos and filmed pieces to retell his amazing story.\n\nWhen one of Australia's most talented comedians delves deep into his own life's joys and sorrows\, the result is an unforgettable night at the theatre that leaves an audience uplifted and quite simply experiencing… happiness.
LOCATION:\, 19 Strand Street\, Forster\, NSW 2428\, NSW\, 2428
END:VEVENT
END:VCALENDAR
