BEGIN:VCALENDAR
VERSION:2.0
PRODID:-//My Community Diary//iCal Event//EN
CALSCALE:GREGORIAN
METHOD:PUBLISH
BEGIN:VEVENT
UID:7de55412-ad4e-4add-9214-9c59d8b3ed89
DTSTAMP:20260421T225830Z
DTSTART;VALUE=DATE:20260513
DTEND;VALUE=DATE:20260514
SUMMARY:Anh Do - The Happiest Refugee - Armidale
DESCRIPTION:Anh Do's bestselling book The Happiest Refugee has made readers laugh and cry\, and was described by Russell Crowe as the most surprising and inspiring read he had in years.\n\nAnh's stage show takes it a step further\, combining stand-up comedy with real-life stories\, photos and filmed pieces to retell his amazing story.\n\nWhen one of Australia's most talented comedians delves deep into his own life's joys and sorrows\, the result is an unforgettable night at the theatre that leaves an audience uplifted and quite simply experiencing… happiness.
LOCATION:\, Lazenby Hall\, Armidale\, NSW 2350\, NSW\, 2350
END:VEVENT
END:VCALENDAR
