BEGIN:VCALENDAR
VERSION:2.0
PRODID:-//My Community Diary//iCal Event//EN
CALSCALE:GREGORIAN
METHOD:PUBLISH
BEGIN:VEVENT
UID:a22597a6-7d54-4ee9-bbc5-9f3b1249a3c8
DTSTAMP:20260421T224400Z
DTSTART;VALUE=DATE:20260627
DTEND;VALUE=DATE:20260628
SUMMARY:And Juliet
DESCRIPTION:The Olivier Award-winning musical reimagines Shakespeare's most famous heroine\, asking: what if Juliet's story didn't end with Romeo? Instead of tragedy\, Juliet seizes the chance to take control of her own future in a bold\, funny and uplifting retelling.\n\nFeaturing a soundtrack of pop megahits including Since U Been Gone\, Roar\, Baby One More Time and Larger Than Life\, & Juliet has been described as "a jukebox musical like no other"\, blending contemporary chart-toppers with a witty new take on a classic story.\n\nDirected by Lauren Harvey\, with choreography by Vanessa Ambrose and musical direction by Dan Wilson\, the Very Popular Theatre Company production promises a high-energy theatrical experience filled with humour\, heart and show-stopping performances.\n\n"And Juliet is a celebration of second chances\, independence and joy\," said Producer Hayley Stoddart. "It takes one of theatre's most iconic characters and lets her rewrite her own ending. Backed by the biggest pop songs of the last 30 years. It's a show that makes you laugh\, sing and walk away feeling empowered."\nAnd Juliet has played to sold-out seasons on Broadway and the West End\, and now brings its fearless remix of love\, life and second chances to Newcastle.
LOCATION:\, 375 Hunter St\, Newcastle\, NSW 2300\, NSW\, 2300
RRULE:FREQ=DAILY;INTERVAL=1;UNTIL=20260629T000000Z
END:VEVENT
END:VCALENDAR
