BEGIN:VCALENDAR
VERSION:2.0
PRODID:-//My Community Diary//iCal Event//EN
CALSCALE:GREGORIAN
METHOD:PUBLISH
BEGIN:VEVENT
UID:62afd399-3b21-47a5-9799-4ce60df2e873
DTSTAMP:20260421T222517Z
DTSTART;VALUE=DATE:20260612
DTEND;VALUE=DATE:20260613
SUMMARY:An Unseasonable Fall of Snow
DESCRIPTION:An Unseasonable Fall of Snow is a psychological thriller set in Wellington in the 1990's.\n\nA bewildered young man is questioned by a ruthless interrogator\, who circles like a predator forcing him closer and closer to an awful admission. An electrifying game of cat and mouse and mind games\, all serve to highlight the complexities of human behaviour\, truth\, consequences\, and the often harsh realities of life.\n\nThis raw\, real\, and confronting investigation into toxic masculinity\, guilt and isolation\, is compelling of truth.\n\nContent warning\, An Unseasonable Fall of Snow contains strong language\, adult themes\, assault and references to mental health.\n\nEntry Cost\nConcession $27 \nAdult $32 \nGroup $27  - Ten + people
LOCATION:\, 244 High Street\, Maitland\, NSW 2320\, NSW\, 2320
RRULE:FREQ=DAILY;INTERVAL=1;UNTIL=20260614T000000Z
END:VEVENT
END:VCALENDAR
