BEGIN:VCALENDAR
VERSION:2.0
PRODID:-//My Community Diary//iCal Event//EN
CALSCALE:GREGORIAN
METHOD:PUBLISH
BEGIN:VEVENT
UID:99a4700b-f393-4555-bc30-f153efdb47be
DTSTAMP:20260422T050228Z
DTSTART;VALUE=DATE:20260519
DTEND;VALUE=DATE:20260520
SUMMARY:An Evening with Fran Lebowitz
DESCRIPTION:Fran Lebowitz is renowned for her razor-sharp commentary\, biting realism and unapologetic observations.\n\nReturning with An Evening with Fran Lebowitz\, the star of Martin Scorsese's hit Netflix documentary series Pretend It's a City unleashes her chain-smoking\, coffee-drinking New Yorker bite on a world falling ever more deeply into depravity\, sucked along in the wake of Trump 2.0. \n\nWeaving a cautionary tale for our society\, and never short of an opinion—from politicians and billionaires to AI and people who walk too slowly—Fran has for decades lambasted the abhorrent and ridiculous with wit and wisdom in equal measure.
LOCATION:\, Bennelong Point\, Sydney\, NSW 2000\, NSW\, 2000
END:VEVENT
END:VCALENDAR
