BEGIN:VCALENDAR
VERSION:2.0
PRODID:-//My Community Diary//iCal Event//EN
CALSCALE:GREGORIAN
METHOD:PUBLISH
BEGIN:VEVENT
UID:894eca76-322a-4c00-aad8-853419060027
DTSTAMP:20260422T051151Z
DTSTART;VALUE=DATE:20260828
DTEND;VALUE=DATE:20260829
SUMMARY:Ambition and the Aftermath
DESCRIPTION:Power-hungry politicians\, scheming masterminds and pursuers of greatness – Shakespeare's characters are no strangers to ambition. But what happens once they achieve their goal? Shakespeare seems just as interested in the aftermath as the pursuit\, giving his characters plenty of space to reflect on the ultimate question: was it all worth it?\n\nDoes ambition always lead to ruin\, or can it be a force for good? Join host Head of Education Joanna Erskine and a panel of experts for this riveting conversation series about ambition in Shakespeare's plays and in our contemporary world.
LOCATION:\, 1/13A Hickson Road Pier 2/3\, Sydney\, NSW 2000\, NSW\, 2000
END:VEVENT
END:VCALENDAR
