BEGIN:VCALENDAR
VERSION:2.0
PRODID:-//My Community Diary//iCal Event//EN
CALSCALE:GREGORIAN
METHOD:PUBLISH
BEGIN:VEVENT
UID:713eeaa6-fb40-401c-97b3-632f9a3401cc
DTSTAMP:20260422T054506Z
DTSTART;VALUE=DATE:20261025
DTEND;VALUE=DATE:20261026
SUMMARY:Alstonville Show
DESCRIPTION:The much-loved Alstonville Show returns to the Alstonville Showground\, bringing two full days of classic country fun\, community pride and all-ages entertainment.\n\nA highlight on the Northern Rivers calendar\, the Alstonville Show captures the unmistakable energy of a traditional agricultural show. Visitors can enjoy a lively mix of show rides and sideshow alley attractions\, livestock and produce competitions\, live entertainment\, local food stalls and the ever-popular showbags.\n\nFrom prize-winning animals and homegrown produce to family-friendly and nostalgic showground experiences\, the event celebrates the region's rural heritage while delivering plenty of fun for modern audiences. It is an ideal day out for families\, visitors and locals alike\, offering something for every age and interest.\n\nWhether attending for the agricultural displays\, the entertainment program\, or simply to soak up the atmosphere\, the Alstonville Show continues to be a cherished community event that brings people together year after year.\n\nHeld at the Alstonville Showground\, the event is easily accessible and well suited to a full day of exploring\, grazing and entertainment.\n\nMark the dates and plan to be part of one of the region's most enduring and well-loved events.
LOCATION:\, 6 South St\, Alstonville\, NSW 2477\, NSW\, 2477
RRULE:FREQ=DAILY;INTERVAL=1;UNTIL=20261027T000000Z
END:VEVENT
END:VCALENDAR
