BEGIN:VCALENDAR
VERSION:2.0
PRODID:-//My Community Diary//iCal Event//EN
CALSCALE:GREGORIAN
METHOD:PUBLISH
BEGIN:VEVENT
UID:72f36131-bdd4-4bcb-8eff-d587e13381a4
DTSTAMP:20260422T052617Z
DTSTART;VALUE=DATE:20270125
DTEND;VALUE=DATE:20270126
SUMMARY:Alpaca Experience
DESCRIPTION:Madison's Mountain Retreat is a peaceful farm stay in Kurrajong Heights\, on acres bordering the Wollemi and Blue Mountains National Parks. Madison's is about an hour from the Sydney CBD.\n\nHand feed the animals at the paddock and learn some interesting facts about Alpacas from the knowledgeable staff.\n\nEntry Cost\nAll tickets $25  - Bookings are essential \, all tickets are priced at AUD25 per person through the gate.
LOCATION:\, 1880 Bells Line of Road\, Kurrajong Heights\, NSW 2758\, NSW\, 2758
RRULE:FREQ=DAILY;INTERVAL=1;UNTIL=20270127T000000Z
END:VEVENT
END:VCALENDAR
