BEGIN:VCALENDAR
VERSION:2.0
PRODID:-//My Community Diary//iCal Event//EN
CALSCALE:GREGORIAN
METHOD:PUBLISH
BEGIN:VEVENT
UID:93b07d57-74e6-4a64-b64c-9ab68bc2b016
DTSTAMP:20260422T015654Z
DTSTART;VALUE=DATE:20261202
DTEND;VALUE=DATE:20261203
SUMMARY:Alpaca Experience
DESCRIPTION:Madison's Mountain Retreat is a peaceful farm stay in Kurrajong Heights\, on acres bordering the Wollemi and Blue Mountains National Parks. Madison's is about an hour from the Sydney CBD.\n\nHand feed the animals at the paddock and learn some interesting facts about Alpacas from the knowledgeable staff.\n\nEntry Cost\nAll tickets $25  - Bookings are essential \, all tickets are priced at AUD25 per person through the gate.
LOCATION:\, 1880 Bells Line of Road\, Kurrajong Heights\, NSW 2758\, NSW\, 2758
RRULE:FREQ=DAILY;INTERVAL=1;UNTIL=20261204T000000Z
END:VEVENT
END:VCALENDAR
