BEGIN:VCALENDAR
VERSION:2.0
PRODID:-//My Community Diary//iCal Event//EN
CALSCALE:GREGORIAN
METHOD:PUBLISH
BEGIN:VEVENT
UID:320d35da-5a5a-4055-b5f5-ed5dde706aa4
DTSTAMP:20260421T211612Z
DTSTART;VALUE=DATE:20260829
DTEND;VALUE=DATE:20260830
SUMMARY:All Historic Racing at Pheasant Wood Circuit
DESCRIPTION:The All Historic Race Meeting is an exciting and popular event to bring together bike and car enthusiasts across Australia.\n\nThe event includes pre-1963 - the period three and older solos and sidecars\, and pre-1961 -  the racing and sports cars.\n\nThis event is suitable for the whole family!
LOCATION:\, 8 Prairie Oak Road\, Marulan\, NSW 2579\, NSW\, 2579
RRULE:FREQ=DAILY;INTERVAL=1;UNTIL=20260831T000000Z
END:VEVENT
END:VCALENDAR
