BEGIN:VCALENDAR
VERSION:2.0
PRODID:-//My Community Diary//iCal Event//EN
CALSCALE:GREGORIAN
METHOD:PUBLISH
BEGIN:VEVENT
UID:012693c5-45bb-4826-94cf-6f85d357c14a
DTSTAMP:20260422T105747Z
DTSTART;VALUE=DATE:20260426
DTEND;VALUE=DATE:20260427
SUMMARY:Aled Jones - Port Macquarie
DESCRIPTION:The My Story\, My Songs tour takes Aled Jones on a regional journey across Australia and New Zealand\, bringing fans a rare chance to get up close and personal with one of the country's most loved performers.\n\nA witty raconteur\, Aled also performs the hits from his extraordinary career\, and a self-penned track from his Number One album Full Circle.\n\nAled was the boy treble who captivated the world with his angelic voice\, most notably voicing the score to Raymond Briggs's The Snowman. Selling more than seven million albums\, he's equally at home on the classical stage\, or starring in musical theatre productions in London West End\, his credits include lead roles in Joseph and the Amazing Technicolour Dreamcoat\, Chitty Chitty Bang Bang and Irving Berlin's White Christmas.\n\nEntry Cost\nAll tickets $69.9  - excludes booking fees
LOCATION:\, 30-42 Clarence Street & Hay St\, Port Macquarie\, NSW 2444\, NSW\, 2444
END:VEVENT
END:VCALENDAR
