BEGIN:VCALENDAR
VERSION:2.0
PRODID:-//My Community Diary//iCal Event//EN
CALSCALE:GREGORIAN
METHOD:PUBLISH
BEGIN:VEVENT
UID:4ff9296e-2358-4f39-ba8a-17cbb4bd8501
DTSTAMP:20260422T050749Z
DTSTART;VALUE=DATE:20260502
DTEND;VALUE=DATE:20260503
SUMMARY:AHA Newcastle + Pitcher Partners Race Day
DESCRIPTION:Buckle up for the AHA Newcastle + Pitcher Partners Race Day\, a high-energy celebration where thrilling racing meets exceptional company.\n\nThis is your chance to round up friends\, colleagues and mates and soak up a day with great action on track\, laughter and unbeatable race day vibes at Newcastle Racecourse.\n\nFrom the roar of the crowd to the buzz between races\, it's all about coming together to celebrate an unforgettable day and creating lasting memories.\n\nBook your tickets now.\n\nEntry Cost\nAll tickets $20 
LOCATION:\, Darling Street\, Broadmeadow\, NSW 2292\, NSW\, 2292
END:VEVENT
END:VCALENDAR
