BEGIN:VCALENDAR
VERSION:2.0
PRODID:-//My Community Diary//iCal Event//EN
CALSCALE:GREGORIAN
METHOD:PUBLISH
BEGIN:VEVENT
UID:0a9d51d9-4c7c-4e58-97f4-1483d7aa9ced
DTSTAMP:20260421T211441Z
DTSTART;VALUE=DATE:20261204
DTEND;VALUE=DATE:20261205
SUMMARY:Agatha Christie's\, A Murder is Announced
DESCRIPTION:Adapted for the stage by Leslie Darbon and directed by Steve Ryan\, Agatha Christie's\, 'A Murder is Announced'\, is a mystery waiting to be cracked. \n\nThe villagers of Chipping Cleghorn\, including Jane Marple\, are agog with curiosity over an advertisement in the local gazette which reads: 'A murder is announced and will take place on Friday October 29th\, at Little Paddocks at 6.30 p.m.'\n\nA childish practical joke? Or a hoax intended to scare poor Letitia Blacklock? Unable to resist the mysterious invitation\, a crowd begins to gather at Little Paddocks at the appointed time when\, without warning\, the lights go out.\n\nBookings for individual tickets are available for each play from the advertised date 2 months before opening.
LOCATION:\, 244 High Street\, Maitland\, NSW 2320\, NSW\, 2320
RRULE:FREQ=DAILY;INTERVAL=1;UNTIL=20261206T000000Z
END:VEVENT
END:VCALENDAR
