BEGIN:VCALENDAR
VERSION:2.0
PRODID:-//My Community Diary//iCal Event//EN
CALSCALE:GREGORIAN
METHOD:PUBLISH
BEGIN:VEVENT
UID:a376a535-8082-4b3b-8f3b-130a8d43a07a
DTSTAMP:20260422T071625Z
DTSTART;VALUE=DATE:20260628
DTEND;VALUE=DATE:20260629
SUMMARY:Adam Harvey
DESCRIPTION:Join country music legend Adam Harvey as he celebrates 25 years of Workin' Overtime. \n\nIt's been twenty-five years since Adam's groundbreaking 2001 album Workin' Overtime was released\, featuring number 1 hits such as 'The House That Jack Built' and 'The Shake Of A Hand'.\n\nTouring nationally in May and June to celebrate the anniversary of his Workin' Overtime album\, this live show will feature many of the tracks from Workin' Overtime\, all of Adam's hits and other classic country songs that are sure to bring back some nostalgic memories. \n\nAdam Harvey is one of Australia's most popular and enduring recording artists. One of the best entertainers in the business\, with a beautiful\, deep voice and sense of humour\; this is country music at its finest.\n\nJoining Adam for the entire tour is Australian singer-songwriter Dingo (Brandon Dodd). Best known for his unique guitar style in Kasey Chambers' band\, Dingo will be performing songs from his forthcoming album and will be sure to win you over with his unique sound and storytelling.\n\nYou do not want to miss this show.\n\nEntry Cost\nAdult $54.1 
LOCATION:\, 85 Monaro Street\, Queanbeyan\, NSW 2620\, NSW\, 2620
END:VEVENT
END:VCALENDAR
