BEGIN:VCALENDAR
VERSION:2.0
PRODID:-//My Community Diary//iCal Event//EN
CALSCALE:GREGORIAN
METHOD:PUBLISH
BEGIN:VEVENT
UID:4a5ef4b3-67d4-4c55-a43d-52b24d49f038
DTSTAMP:20260422T021037Z
DTSTART;VALUE=DATE:20260426
DTEND;VALUE=DATE:20260427
SUMMARY:A Taste of Morpeth Walking Tour
DESCRIPTION:Embark on a captivating journey through the quaint rural village of Morpeth with the A Taste of Morpeth walking tour. This leisurely adventure takes you along flat\, picturesque terrain\, covering a distance of up to one kilometre\, providing a perfect blend of exploration and relaxation.\n\nTake in the sights of quaint historic architecture while the friendly tour guide shares fascinating anecdotes and stories\, providing insight into the traditions and customs that have shaped the village over the years.\n\nDiscover how Morpeth was founded\, what famous biscuits were made here\, and be educated about some of the most iconic buildings! There is so much to see and hear about on this fascinating tour!\n\nA Taste of Morpeth walking tour concludes at the stunning Boydell’s Restaurant\, a culinary haven nestled in the heart of Morpeth. Here\, you will enjoy delicious chef tapas featuring local flavours and ingredients\, while sipping on a selection of local wines which celebrate the region's vineyard heritage.\n\nThis unique journey promises to leave you with a deep appreciation for the simple beauty and rich traditions of life in the countryside.\n\nEntry Cost\nAll tickets $85  - The ticket price includes: \n- Professional\, friendly tour guide\n- Boydell's wine tasting\n- Delicious Chef selection of tapas
LOCATION:\, Various\, Morpeth\, NSW 2321\, NSW\, 2321
RRULE:FREQ=DAILY;INTERVAL=1;UNTIL=20260428T000000Z
END:VEVENT
END:VCALENDAR
