BEGIN:VCALENDAR
VERSION:2.0
PRODID:-//My Community Diary//iCal Event//EN
CALSCALE:GREGORIAN
METHOD:PUBLISH
BEGIN:VEVENT
UID:1b7e0090-78dd-4db2-9937-d4701e9fdb29
DTSTAMP:20260422T021931Z
DTSTART;VALUE=DATE:20261009
DTEND;VALUE=DATE:20261010
SUMMARY:A Taste of Ireland
DESCRIPTION:Direct from Off-Broadway and London's West End\, the internationally acclaimed A Taste of Ireland Company returns with its flagship production -'A Taste of Ireland - The Irish Music & Dance Sensation' - touring Australia in 2026. Laugh\, cry\, and jig into the night with a production that is Celtic\, for this generation.\n\nPerformed by former World Irish dance champions\, and featuring dancers from Lord of the Dance\, Riverdance\, and the recent West End cast of Eireann\, 'A Taste of Ireland' brings the spirit and energy of modern Ireland to life with a pint of Irish wit. Watch world-class performers blend melodic folk mash-ups\, live jaw-dropping acapella tap battles\, and heartfelt storytelling in a live celebration of Irish music and dance.\n\nFeaturing revamped classics of Danny Boy\, Tell Me Ma\, Wild Rover\, and many more well-known songs\, the show's reimagined contemporary score blossoms alongside the brash Irish charm of the live dance cast. 'A Taste of Ireland' merges cultural traditions\, modern flair\, and craic galore to deliver a performance that has been leaving audiences across the globe jigging on their feet for the last decade.\n\nEntry Cost\nAll tickets $64.9  - A Reserve\nFull Price $79.90\nConcession $74.90\nChild 12yrs & under $64.90\nGroup 10+ $69.90 each\nMember $72.90\nAll tickets $54.9  - B Reserve\nFull Price $69.90\nConcession $64.90\nChild 12yrs & under $54.90\nGroup 10+ $59.90 each\nMember $62.90
LOCATION:\, 525 Swift St\, Albury\, NSW 2640\, NSW\, 2640
RRULE:FREQ=DAILY;INTERVAL=1;UNTIL=20261011T000000Z
END:VEVENT
END:VCALENDAR
