BEGIN:VCALENDAR
VERSION:2.0
PRODID:-//My Community Diary//iCal Event//EN
CALSCALE:GREGORIAN
METHOD:PUBLISH
BEGIN:VEVENT
UID:f82bf29b-3c2f-4569-87ba-9a5fe021a31c
DTSTAMP:20260422T083718Z
DTSTART;VALUE=DATE:20260501
DTEND;VALUE=DATE:20260502
SUMMARY:A Handpicked Band Disco Night!
DESCRIPTION:For one night only\, Handpicked moves to a Friday night for a full-blown disco celebration you won't want to miss.\n\nGet ready to boogie wonderland your way through the ultimate throwback party\, with hits from The Pointer Sisters\, Donna Summer\, Barry White\, Earth\, Wind & Fire\, Kool & The Gang\, The Jacksons\, and Diana Ross plus more dancefloor favourites guaranteed to keep you stayin' alive all night long.… so bring your best moves and your best dress!\n\nThis isn't your usual Thursday Handpicked session — this is a one-off Friday night disco party.\n\nThis is your chance to boogie down and relive the classics. Don't miss it – it's going to be hot stuff!\n\nEntry Cost\nAll tickets $48 
LOCATION:\, Canobolas Road\, Orange\, NSW 2800\, NSW\, 2800
END:VEVENT
END:VCALENDAR
